BEGIN:VCALENDAR
VERSION:2.0
METHOD:PUBLISH
BEGIN:VEVENT
UID:WILD_APRICOT_EVENT_3751739_SESSION_1
DTSTART:20200311T213000Z
DTEND:20200311T233000Z
SUMMARY:VIC: Last Mile Delivery. Breakfast Seminar\, 12 March 2020
LOCATION:Vertical Talent \, Level 40\, 55 Collins Street\, Melbourne
DESCRIPTION:https://info.sclaa.com.au/widget/event-3751739\n\n\n\n
DTSTAMP:20260424T161703Z
END:VEVENT
END:VCALENDAR
