BEGIN:VCALENDAR
VERSION:2.0
METHOD:PUBLISH
BEGIN:VEVENT
UID:WILD_APRICOT_EVENT_3749867_SESSION_1
DTSTART:20200311T130000Z
DTEND:20200313T130000Z
SUMMARY:COBOTS 2020: Intelligent And Collaborative Robotics Automation Forum
LOCATION:Melbourne Marriott Hotel (venue change from Park Hyatt Melbourne)
DESCRIPTION:https://info.sclaa.com.au/widget/event-3749867\n\n\n\n  COBOTS 2020: Intelligent And Collaborative Robotics Automation Forum\n  \n\n  15% discount for SCLAA Members\n  To help you learn more about how organizations are deploying cobots to achieve transformation automation\, efficiency and productivity\, while greatly reducing costs\, join us at the COBOTS 2020: Intelligent and Advanced Robotics Automation Forum from 12 – 13 March 2020 at Park Hyatt Melbourne.\n  This event has been carefully researched and crafted with the most desired and unparalleled insights on intelligent and collaborative robotics automation\, as well as trends and applications to help industry leaders ignite a successful transformation and drive the next wave of massive automation.\n  Join the global gathering of robotics and intelligent automation leaders to discover how leading organizations like Laing O’Rourke\, Rolls Royce\, Meat & Livestock Australia\, FedEx\, Boeing\, Australia Post and others are using collaborative robotics to drive innovations in productivity and automation. This forum is an exciting opportunity for you to engage and forge partnerships with thought leaders and business experts in the intelligent and collaborative robotics automation space.\n  Date: 12 – 13 March 2020\n Venue: Melbourne Marriott Hotel\n  Download Brochure               Register Now              Visit Forum Website\n                          \n          What Can You Expect From This Forum?\n                                                                                           \n                  How Sydney Waters Uses Robots To Maintain Its Pipelines\n                  Dr. Sarath Kodagoda\nAssociate Professor\, Deputy Director\nUniversity of Technology Sydney\n                 \n\n                   How Vision-Equipped Robots Are Saving The Great Barrier Reefs\n                  Matthew Dunbabin\nProfessor\nQueensland University of Technology\n                 \n\n                   Learning Lessons From Cobots Implementation: Failures\, Challenges\, Painpoints And Implementation Success\n                  Phillip Crothers\nEnterprise Domain Leader - Manufacturing\n                 Boeing\n                 \n\n                   See The Future Of Mining With Robots And Intelligent Machines\n                  Ali Soofastaei\n                 Research Developer at Artificial Intelligence Center\nVale\n                 \n\n                   How FedEx Is Using Autonomous Robots To Make Future Deliveries\n                  Prashant Menon\nManaging Director IT\nFedEx Express\n                 \n\n                   How Rolls Royce Automated An Entire Assembly Line With Cobots\n                  Luc Scheffer\nChief of Manufacturing Technology\nRolls Royce\n                 \n\n                   How Robot Waiters And Waitresses Are Serving Customers In Australia\n                  Stephen Parker\nHead of Product\n                 Niska Retail Robotic\n                   And Many More\n                   \n                                                                  For more information on the forum\, please download the forum brochure\, visit the website or contact Karen at karen.williams@claridenglobal.org.\n  Please use the code L20017_SCLAA_15OFF when registering to be entitled to a 15% discount\, exclusive for SCLAA members.\n
DTSTAMP:20260424T161755Z
END:VEVENT
END:VCALENDAR
