BEGIN:VCALENDAR
VERSION:2.0
METHOD:PUBLISH
BEGIN:VEVENT
UID:WILD_APRICOT_EVENT_3748205_SESSION_1
DTSTART:20200401T203000Z
DTEND:20200401T220000Z
SUMMARY:CANCELLED - VIC: Building Relationships through Emotional Intelligence
LOCATION:Vertical Talent\, Level 40\, 55 Collins Street Melbourne
DESCRIPTION:https://info.sclaa.com.au/widget/event-3748205\n\nEVENT CANCELLATION\n  Due to the current precautions being taken to mitigate COVID-19\, the event below has been cancelled. It is planned to scheduled this event for later in the year.\n  All those who have registered for this event will be personally advised and registration payments will be refunded.\n  \n\n
DTSTAMP:20260424T155914Z
END:VEVENT
END:VCALENDAR
