BEGIN:VCALENDAR
VERSION:2.0
METHOD:PUBLISH
BEGIN:VEVENT
UID:WILD_APRICOT_EVENT_3746461_SESSION_1
DTSTART:20200309T213000Z
DTEND:20200309T233000Z
SUMMARY:NSW: Last Mile Delivery. Breakfast Seminar\, 10 March 2020
LOCATION:Vertical Talent\, 13th floor\, 77 King Street\, Sydney
DESCRIPTION:https://info.sclaa.com.au/widget/event-3746461\n\n\n\n
DTSTAMP:20260424T161825Z
END:VEVENT
END:VCALENDAR
