BEGIN:VCALENDAR
VERSION:2.0
METHOD:PUBLISH
BEGIN:VEVENT
UID:WILD_APRICOT_EVENT_3746147_SESSION_1
DTSTART:20200319T060000Z
DTEND:20200319T090000Z
SUMMARY:CANCELLED - VIC: Towards Zero Carbon Supply Chains\, 18 March 2020
LOCATION:The Dock Multipurpose Room 912 Collins Street\, Docklands\, VIC
DESCRIPTION:https://info.sclaa.com.au/widget/event-3746147\n\n\n\n  WISC has advised the SCLAA that the event below has been cancelled. WISC will be directly contacting all those who have already registered.\n\n  \n\n
DTSTAMP:20260424T163655Z
END:VEVENT
END:VCALENDAR
